BEGIN:VCALENDAR
VERSION:2.0
PRODID:-//hacksw/handcal//NONSGML v1.0//EN
BEGIN:VEVENT
SUMMARY:Concours TAE Herouville
UID:eae61723-71db-4c44-8221-7d56ef79c7c3
DTSTART:20260411T220000Z
DTEND:20260412T220000Z
LOCATION:Localisation   
CATEGORIES:Sportif
STATUS:
DESCRIPTION:<p><span style="font-size:14px;">Pour ce premier concours
 TAE de la saison Sabine et Mathilde BROCHARD iront a
 HEROUVILLE-SAINT-CLAIR.</span></p>
URL;VALUE=URI:https://www.archersdesabrincates.com/evenements/2026/04/12/concours-tae-herouville-2441145
END:VEVENT
END:VCALENDAR
