BEGIN:VCALENDAR
VERSION:2.0
PRODID:-//hacksw/handcal//NONSGML v1.0//EN
BEGIN:VEVENT
SUMMARY:Concours Loisirs Avranches Avril 2026
UID:f8967698-47fa-482a-bc32-192db2ef61ea
DTSTART:20260411T110000Z
DTEND:20260411T160000Z
LOCATION:Localisation Ecoparc CHene au loup  Tirepied
CATEGORIES:Sportif
STATUS:
DESCRIPTION:<p>Nous sommes heureux de vous inviter a notre rencontre
 Loisir Jeunes et debutants Adultes qui se deroulera dans notre salle
 de l'Ecoparc de Tirepied-Sur-See (La Huberdiere 50300 TIREPIED SUR
 SEE - GPS : 48.71106703885344 /
 -1.313189491118265).</p>
 
 <p>Retrouvez tous les details dans le
 mandat en telechargement en bas de page.</p>
URL;VALUE=URI:https://www.archersdesabrincates.com/evenements/2026/04/11/concours-loisirs-avranches-avril-2026-2437421
END:VEVENT
END:VCALENDAR
