BEGIN:VCALENDAR
VERSION:2.0
PRODID:-//hacksw/handcal//NONSGML v1.0//EN
BEGIN:VEVENT
SUMMARY:Championnat Regional Adultes 2026
UID:1d3d6e12-95a6-4026-a270-aba27ba16d9b
DTSTART:20260213T230000Z
DTEND:20260215T230000Z
LOCATION:Localisation   
CATEGORIES:Sportif
STATUS:
DESCRIPTION:<p><span style="font-size:14px;">Cette saison deux
 archers des Abrincates participeront au Championnat Regional adultes
 qui aura lieu a CARPIQUET: Frederic et Claudine BOUVET.</span></p>
URL;VALUE=URI:https://www.archersdesabrincates.com/evenements/2026/02/14/championnat-regional-adultes-2026-2437590
END:VEVENT
END:VCALENDAR
