BEGIN:VCALENDAR
VERSION:2.0
PRODID:-//hacksw/handcal//NONSGML v1.0//EN
BEGIN:VEVENT
SUMMARY:Championnat Regional Jeunes
UID:b03823f2-6bb1-4711-b437-231c1ccf8dc7
DTSTART:20260207T230000Z
DTEND:20260208T230000Z
LOCATION:Localisation   
CATEGORIES:Sportif
STATUS:
DESCRIPTION:<p><span style="font-size:14px;">Cette saison, trois
 Jeunes Abrincates sont qualifies pour ce Championnat Regional:
 Romaric DANNA, Simeo BARDOUS BORDAIS, Annaeg
 DELPLACE-POIRIER.</span></p>
URL;VALUE=URI:https://www.archersdesabrincates.com/evenements/2026/02/08/championnat-regional-jeunes-2437613
END:VEVENT
END:VCALENDAR
